BEGIN:VCALENDAR
VERSION:2.0
PRODID:-//Luinabio - ECPv4.8.0.1//NONSGML v1.0//EN
CALSCALE:GREGORIAN
METHOD:PUBLISH
X-WR-CALNAME:Luinabio
X-ORIGINAL-URL:https://luinabio.com.au
X-WR-CALDESC:Events for Luinabio
BEGIN:VEVENT
DTSTART;VALUE=DATE:20190129
DTEND;VALUE=DATE:20190131
DTSTAMP:20190227T071426
CREATED:20190109T013217Z
LAST-MODIFIED:20190109T014205Z
UID:1804-1548720000-1548892799@luinabio.com.au
SUMMARY:3rd Microbiome Movement - Drug Development Summit Europe 2019
DESCRIPTION:Luina Bio will be exhibiting at the 3rd Microbiome Movement – Drug Development Summit Europe 2019. the event will be in Paris\, France. Please contact us if you would like to organise a meeting. \nAbout the Event:\nDespite the scientific communities progress in translating microbiome R&D into promising therapeutic candidates\, academic and pharmaceutical leaders continue to identify the causal role of the human microbiome in disease to create treatments with consistent clinical outcomes and predictable molecular mechanisms. \nPart of the established Microbiome Movement\, the 3rd Microbiome Movement – Drug Development Europe returns as the industry-defining forum to help discover\, develop and deliver the next generation of microbiome-based therapeutic and diagnostic candidates to market. \n \n
URL:https://luinabio.com.au/event/3rd-microbiome-movement-drug-development-summit-europe-2019/
LOCATION:Novotel Paris Est\, 1 Avenue de la République\, 93177 Bagnolet\, France
END:VEVENT
END:VCALENDAR